BEGIN:VCALENDAR
VERSION:2.0
PRODID:-//Tukios.com/
BEGIN:VEVENT
UID:52acaad4-31a0-4f7e-95c9-711fe13cfec5@www.forrestandtaylor.com
DTSTAMP:20260423T215944Z
DTSTART:20260426T220000Z
DTEND:20260427T010000Z
SUMMARY:Visitation
DESCRIPTION:
URL:https://www.forrestandtaylor.com/obituaries/braden-smith
LOCATION: 20846 Dalton Road  Sutton ON L0E 1R0
GEO:44.3058427;-79.3636937
END:VEVENT
END:VCALENDAR