BEGIN:VCALENDAR
VERSION:2.0
PRODID:-//Tukios.com/
BEGIN:VEVENT
UID:ea5528aa-714f-47a9-a485-381740acb27c@www.forrestandtaylor.com
DTSTAMP:20260423T215919Z
DTSTART:20260427T170000Z
DTEND:20260427T180000Z
SUMMARY:Funeral Service
DESCRIPTION:
URL:https://www.forrestandtaylor.com/obituaries/braden-smith
LOCATION: 28118 Ontario 48  Georgina ON L0E 1R0
GEO:44.3153706;-79.2854101
END:VEVENT
END:VCALENDAR