BEGIN:VCALENDAR
VERSION:2.0
PRODID:-//Tukios.com/
BEGIN:VEVENT
UID:c07189a6-62d3-4452-9758-4cec3c2f95a4@www.forrestandtaylor.com
DTSTAMP:20260423T003329Z
DTSTART:20260502T180000Z
DTEND:20260502T190000Z
SUMMARY:Visitation
DESCRIPTION:
URL:https://www.forrestandtaylor.com/obituaries/cathy-morrell
LOCATION: 1816 Metro Road North  Georgina ON L0E 1L0
GEO:44.3167199;-79.39645
END:VEVENT
END:VCALENDAR