BEGIN:VCALENDAR
VERSION:2.0
PRODID:-//Tukios.com/
BEGIN:VEVENT
UID:33d5a31c-76c3-42af-af4c-2f671f5c397f@www.forrestandtaylor.com
DTSTAMP:20260423T003502Z
DTSTART:20260502T190000Z
DTEND:20260502T200000Z
SUMMARY:Memorial Service
DESCRIPTION:
URL:https://www.forrestandtaylor.com/obituaries/cathy-morrell
LOCATION: 1816 Metro Road North  Georgina ON L0E 1L0
GEO:44.3167199;-79.39645
END:VEVENT
END:VCALENDAR