BEGIN:VCALENDAR
VERSION:2.0
PRODID:-//Tukios.com/
BEGIN:VEVENT
UID:be40ee91-7418-463e-9515-1852c3c5eafc@www.forrestandtaylor.com
DTSTAMP:20260421T203107Z
DTSTART:20260429T180000Z
DTEND:20260429T200000Z
SUMMARY:Celebration of Life
DESCRIPTION:
URL:https://www.forrestandtaylor.com/obituaries/dennis-clark
LOCATION: 20846 Dalton Road  Sutton ON L0E 1R0
GEO:44.3058427;-79.3636937
END:VEVENT
END:VCALENDAR